BEGIN:VCALENDAR
VERSION:2.0
PRODID:-//Texas Southmost College News - ECPv6.15.20//NONSGML v1.0//EN
CALSCALE:GREGORIAN
METHOD:PUBLISH
X-ORIGINAL-URL:https://www.tsc.edu/news
X-WR-CALDESC:Events for Texas Southmost College News
REFRESH-INTERVAL;VALUE=DURATION:PT1H
X-Robots-Tag:noindex
X-PUBLISHED-TTL:PT1H
BEGIN:VTIMEZONE
TZID:UTC
BEGIN:STANDARD
TZOFFSETFROM:+0000
TZOFFSETTO:+0000
TZNAME:UTC
DTSTART:20240101T000000
END:STANDARD
END:VTIMEZONE
BEGIN:VEVENT
DTSTART;TZID=UTC:20250717T113000
DTEND;TZID=UTC:20250717T130000
DTSTAMP:20260424T183835
CREATED:20250604T210123Z
LAST-MODIFIED:20250604T210123Z
UID:6869-1752751800-1752757200@www.tsc.edu
SUMMARY:Tournament Thursday- FIFA
DESCRIPTION:The Office of Student Life  \nThe Game room\, Oliveira Student Services Center second floor    \n11:30 AM – 1:00 PM    \nThe Game Room will host “Tournament Thursday\,” featuring a lively dominoes competition where students can connect\, have fun\, and enjoy some friendly competition in a relaxed and welcoming environment.
URL:https://www.tsc.edu/news/event/tournament-thursday-fifa/
LOCATION:Oliveira Game Room
CATEGORIES:Student Life
END:VEVENT
END:VCALENDAR