BEGIN:VCALENDAR
VERSION:2.0
PRODID:-//Texas Southmost College News - ECPv6.15.20//NONSGML v1.0//EN
CALSCALE:GREGORIAN
METHOD:PUBLISH
X-ORIGINAL-URL:https://www.tsc.edu/news
X-WR-CALDESC:Events for Texas Southmost College News
REFRESH-INTERVAL;VALUE=DURATION:PT1H
X-Robots-Tag:noindex
X-PUBLISHED-TTL:PT1H
BEGIN:VTIMEZONE
TZID:UTC
BEGIN:STANDARD
TZOFFSETFROM:+0000
TZOFFSETTO:+0000
TZNAME:UTC
DTSTART:20240101T000000
END:STANDARD
END:VTIMEZONE
BEGIN:VEVENT
DTSTART;TZID=UTC:20250716T150000
DTEND;TZID=UTC:20250716T160000
DTSTAMP:20260424T183846
CREATED:20250618T151415Z
LAST-MODIFIED:20250618T151415Z
UID:6980-1752678000-1752681600@www.tsc.edu
SUMMARY:2025 Summer ASL Classes
DESCRIPTION:Office of Student Life \nSet B lecture Hall \n3:00 PM – 4:00 PM \nJoin us for a Summer ASL (American Sign Language) class designed to help you learn the basics of ASL and improve communication with the Deaf and hard-of-hearing community. This one-hour session is perfect for beginners or anyone interested in learning a new and valuable skill. All students are welcome!
URL:https://www.tsc.edu/news/event/2025-summer-asl-classes-5/
LOCATION:SET B Lecture Hall
CATEGORIES:Student Life
END:VEVENT
END:VCALENDAR