BEGIN:VCALENDAR
VERSION:2.0
PRODID:-//Texas Southmost College News - ECPv6.15.20//NONSGML v1.0//EN
CALSCALE:GREGORIAN
METHOD:PUBLISH
X-WR-CALNAME:Texas Southmost College News
X-ORIGINAL-URL:https://www.tsc.edu/news
X-WR-CALDESC:Events for Texas Southmost College News
REFRESH-INTERVAL;VALUE=DURATION:PT1H
X-Robots-Tag:noindex
X-PUBLISHED-TTL:PT1H
BEGIN:VTIMEZONE
TZID:UTC
BEGIN:STANDARD
TZOFFSETFROM:+0000
TZOFFSETTO:+0000
TZNAME:UTC
DTSTART:20240101T000000
END:STANDARD
END:VTIMEZONE
BEGIN:VEVENT
DTSTART;TZID=UTC:20250709T100000
DTEND;TZID=UTC:20250709T150000
DTSTAMP:20260424T185005
CREATED:20250604T205402Z
LAST-MODIFIED:20250604T205508Z
UID:6866-1752055200-1752073200@www.tsc.edu
SUMMARY:Scorpion Success Crew
DESCRIPTION:Office of Student Life  \nStudent Life – Campus Wide   \n8:00 AM -10:00 AM   \nThe Office of Student Life will set up multiple stations across campus staffed by our “guides” knowledgeable team members ready to assist students with directions and answer any campus-related questions. These staff members will also provide maps and helpful information to support students during their transition into campus life.
URL:https://www.tsc.edu/news/event/6866/
LOCATION:Campus Wide
CATEGORIES:Student Life
END:VEVENT
BEGIN:VEVENT
DTSTART;TZID=UTC:20250709T150000
DTEND;TZID=UTC:20250709T160000
DTSTAMP:20260424T185005
CREATED:20250618T151101Z
LAST-MODIFIED:20250618T151101Z
UID:6979-1752073200-1752076800@www.tsc.edu
SUMMARY:2025 Summer ASL Classes
DESCRIPTION:Office of Student Life \nSet B lecture Hall \n3:00 PM – 4:00 PM \nJoin us for a Summer ASL (American Sign Language) class designed to help you learn the basics of ASL and improve communication with the Deaf and hard-of-hearing community. This one-hour session is perfect for beginners or anyone interested in learning a new and valuable skill. All students are welcome!
URL:https://www.tsc.edu/news/event/2025-summer-asl-classes-4/
LOCATION:SET B Lecture Hall
CATEGORIES:Student Life
END:VEVENT
END:VCALENDAR