BEGIN:VCALENDAR
VERSION:2.0
PRODID:-//Texas Southmost College News - ECPv6.15.20//NONSGML v1.0//EN
CALSCALE:GREGORIAN
METHOD:PUBLISH
X-ORIGINAL-URL:https://www.tsc.edu/news
X-WR-CALDESC:Events for Texas Southmost College News
REFRESH-INTERVAL;VALUE=DURATION:PT1H
X-Robots-Tag:noindex
X-PUBLISHED-TTL:PT1H
BEGIN:VTIMEZONE
TZID:UTC
BEGIN:STANDARD
TZOFFSETFROM:+0000
TZOFFSETTO:+0000
TZNAME:UTC
DTSTART:20220101T000000
END:STANDARD
END:VTIMEZONE
BEGIN:VEVENT
DTSTART;TZID=UTC:20230129T000000
DTEND;TZID=UTC:20230506T000000
DTSTAMP:20260421T202949
CREATED:20230118T195750Z
LAST-MODIFIED:20230118T195829Z
UID:1869-1674950400-1683331200@www.tsc.edu
SUMMARY:United We Step Begins
DESCRIPTION:Join our 15-week virtual step challenge! Complete 6\,000 steps per day for 15 weeks to reach the step challenge goal. Submit a screenshot of your steps every Monday to record your steps. Open for TSC faculty\, staff\, and students. 
URL:https://www.tsc.edu/news/event/united-we-step-begins-2/
LOCATION:Recreation Center-Online
ATTACH;FMTTYPE=image/png:https://www.tsc.edu/news/wp-content/uploads/sites/3/2023/01/UWS.png
END:VEVENT
BEGIN:VEVENT
DTSTART;TZID=UTC:20230301T110000
DTEND;TZID=UTC:20230301T130000
DTSTAMP:20260421T202949
CREATED:20230206T162627Z
LAST-MODIFIED:20230208T170118Z
UID:2004-1677668400-1677675600@www.tsc.edu
SUMMARY:Employer Connection Visit
DESCRIPTION:The Career and Employment Office will host an Employer Connection Visit.  Students will have the opportunity to network with the employer and  learn about the hiring process and requirements. This event is in  collaboration with Workforce Solutions Cameron.  \n 
URL:https://www.tsc.edu/news/event/employer-connection-visit/
LOCATION:South Hall
END:VEVENT
END:VCALENDAR