BEGIN:VCALENDAR
VERSION:2.0
PRODID:-//Texas Southmost College News - ECPv6.15.20//NONSGML v1.0//EN
CALSCALE:GREGORIAN
METHOD:PUBLISH
X-ORIGINAL-URL:https://www.tsc.edu/news
X-WR-CALDESC:Events for Texas Southmost College News
REFRESH-INTERVAL;VALUE=DURATION:PT1H
X-Robots-Tag:noindex
X-PUBLISHED-TTL:PT1H
BEGIN:VTIMEZONE
TZID:UTC
BEGIN:STANDARD
TZOFFSETFROM:+0000
TZOFFSETTO:+0000
TZNAME:UTC
DTSTART:20220101T000000
END:STANDARD
END:VTIMEZONE
BEGIN:VEVENT
DTSTART;TZID=UTC:20230120T110000
DTEND;TZID=UTC:20230120T130000
DTSTAMP:20260419T181225
CREATED:20230111T192645Z
LAST-MODIFIED:20230203T173735Z
UID:1830-1674212400-1674219600@www.tsc.edu
SUMMARY:Scorpion Spirit Social
DESCRIPTION:Show off your Scorpion Spirit! Students are encouraged to wear orange and  blue. Stop by\, socialize\, and pick up a snow cone sponsored by the  Student Government Association  .
URL:https://www.tsc.edu/news/event/scorpion-school-spirit/
LOCATION:North & South Courtyard
END:VEVENT
END:VCALENDAR