BEGIN:VCALENDAR
VERSION:2.0
PRODID:-//Texas Southmost College News - ECPv6.15.20//NONSGML v1.0//EN
CALSCALE:GREGORIAN
METHOD:PUBLISH
X-ORIGINAL-URL:https://www.tsc.edu/news
X-WR-CALDESC:Events for Texas Southmost College News
REFRESH-INTERVAL;VALUE=DURATION:PT1H
X-Robots-Tag:noindex
X-PUBLISHED-TTL:PT1H
BEGIN:VTIMEZONE
TZID:UTC
BEGIN:STANDARD
TZOFFSETFROM:+0000
TZOFFSETTO:+0000
TZNAME:UTC
DTSTART:20220101T000000
END:STANDARD
END:VTIMEZONE
BEGIN:VEVENT
DTSTART;TZID=UTC:20230119T090000
DTEND;TZID=UTC:20230119T120000
DTSTAMP:20260419T195644
CREATED:20230111T192622Z
LAST-MODIFIED:20230111T192622Z
UID:1823-1674118800-1674129600@www.tsc.edu
SUMMARY:Dress for Success Clothing Drive 
DESCRIPTION:Ameri Corps Vista in collaboration with Career & Employment Services  \nNorth & South Courtyard\, ITECC Student Services G1  \n9 AM – 12 PM  \nThe Office of Career and Employment in collaboration with the Americorps Vista program will host a Dress for Success Clothing Drive. The clothing that is donated will help expand our Dress for Success Closet that is available to students who need attire for a job interview or who have recently been hired. 
URL:https://www.tsc.edu/news/event/dress-for-success-clothing-drive-4/
END:VEVENT
BEGIN:VEVENT
DTSTART;TZID=UTC:20230119T110000
DTEND;TZID=UTC:20230119T130000
DTSTAMP:20260419T195644
CREATED:20230111T192634Z
LAST-MODIFIED:20230111T192634Z
UID:1829-1674126000-1674133200@www.tsc.edu
SUMMARY:Career Photo
DESCRIPTION:The Office of Career & Employment  \nNorth & South Courtyard  \n11 AM- 1 PM  \nThe Office of Career and Employment staff will provide students with  information on the serves offered and calendar events for the semester.  Students will have the opportunity to take a picture with the profession of  their choice with fun props. 
URL:https://www.tsc.edu/news/event/career-photo/
END:VEVENT
END:VCALENDAR