BEGIN:VCALENDAR
VERSION:2.0
PRODID:-//Texas Southmost College - ECPv6.15.20//NONSGML v1.0//EN
CALSCALE:GREGORIAN
METHOD:PUBLISH
X-WR-CALNAME:Texas Southmost College
X-ORIGINAL-URL:https://www.tsc.edu
X-WR-CALDESC:Events for Texas Southmost College
REFRESH-INTERVAL;VALUE=DURATION:PT1H
X-Robots-Tag:noindex
X-PUBLISHED-TTL:PT1H
BEGIN:VTIMEZONE
TZID:America/Chicago
BEGIN:DAYLIGHT
TZOFFSETFROM:-0600
TZOFFSETTO:-0500
TZNAME:CDT
DTSTART:20240310T080000
END:DAYLIGHT
BEGIN:STANDARD
TZOFFSETFROM:-0500
TZOFFSETTO:-0600
TZNAME:CST
DTSTART:20241103T070000
END:STANDARD
BEGIN:DAYLIGHT
TZOFFSETFROM:-0600
TZOFFSETTO:-0500
TZNAME:CDT
DTSTART:20250309T080000
END:DAYLIGHT
BEGIN:STANDARD
TZOFFSETFROM:-0500
TZOFFSETTO:-0600
TZNAME:CST
DTSTART:20251102T070000
END:STANDARD
BEGIN:DAYLIGHT
TZOFFSETFROM:-0600
TZOFFSETTO:-0500
TZNAME:CDT
DTSTART:20260308T080000
END:DAYLIGHT
BEGIN:STANDARD
TZOFFSETFROM:-0500
TZOFFSETTO:-0600
TZNAME:CST
DTSTART:20261101T070000
END:STANDARD
END:VTIMEZONE
BEGIN:VEVENT
DTSTART;TZID=America/Chicago:20250127T090000
DTEND;TZID=America/Chicago:20250415T170000
DTSTAMP:20260421T104940
CREATED:20250212T164411Z
LAST-MODIFIED:20250212T164411Z
UID:17577-1737968400-1744736400@www.tsc.edu
SUMMARY:Vita Free Tax Services
DESCRIPTION:Volunteer Income Tax Assistance (VITA) program will offer free help for anyone who has an annual income of $67\,000 or less. For an appointment call: 956.295.3761
URL:https://www.tsc.edu/event/vita-free-tax-services/
LOCATION:ITEC Center F-6
CATEGORIES:ITECC
ATTACH;FMTTYPE=image/jpeg:https://www.tsc.edu/wp-content/uploads/2025/02/tsc_free_tax_services_social-scaled.jpg
END:VEVENT
BEGIN:VEVENT
DTSTART;TZID=America/Chicago:20250417T173000
DTEND;TZID=America/Chicago:20250417T200000
DTSTAMP:20260421T104940
CREATED:20250411T212531Z
LAST-MODIFIED:20250411T212531Z
UID:17881-1744911000-1744920000@www.tsc.edu
SUMMARY:Regular Board Meeting
DESCRIPTION:BOARD OF TRUSTEES OF TEXAS SOUTHMOST COLLEGE DISTRICT will be held in the Gorgas Board Room at Texas Southmost College\, 80 Fort Brown\, Brownsville\, Texas 78520 Commencing at 5:30 p.m. on Thursday\, April 17\, 2025. \nMeeting Agenda
URL:https://www.tsc.edu/event/regular-board-meeting-7/
LOCATION:Gorgas Board Room
CATEGORIES:Board of Trustees
ATTACH;FMTTYPE=image/jpeg:https://www.tsc.edu/wp-content/uploads/2024/05/BOT_Reg_Meeting.jpg
END:VEVENT
BEGIN:VEVENT
DTSTART;TZID=America/Chicago:20250425T073000
DTEND;TZID=America/Chicago:20250426T213000
DTSTAMP:20260421T104940
CREATED:20250128T221703Z
LAST-MODIFIED:20250129T001745Z
UID:17488-1745566200-1745703000@www.tsc.edu
SUMMARY:TSC Foundation Mariachi Festival
DESCRIPTION:2025 Mariachi Festival\n\nTexas Southmost College is proud to present the 2025 Mariachi Festival\, a vibrant celebration of Mexican culture to promote community engagement and foster a deeper understanding of cultural diversity within our college and the surrounding communities. \nThe festival will be held on April 25 – 26\, 2025\, at the historic Texas Southmost College campus. It will offer educational opportunities\, showcase local talent\, and promote mariachi education. Attendees can look forward to an unforgettable experience filled with entertainment and cultural enrichment. \n  \nThe following performances are from the 2024 Mariachi Festival held at the Jacob Brown Auditorium.
URL:https://www.tsc.edu/event/tsc-foundation-mariachi-festival/
LOCATION:Jacob Brown Auditorium\, 600 International Blvd\, Brownsville\, TX\, 78526\, United States
CATEGORIES:Mariachi Escorpion,Mariachi Festival,Mariachi Reyna de Los Angeles
ATTACH;FMTTYPE=image/jpeg:https://www.tsc.edu/wp-content/uploads/2025/01/tsc_mariachi_festival_sponsor_invitation_revised-scaled.jpg
END:VEVENT
END:VCALENDAR