BEGIN:VCALENDAR
VERSION:2.0
PRODID:-//Texas Southmost College - ECPv6.15.20//NONSGML v1.0//EN
CALSCALE:GREGORIAN
METHOD:PUBLISH
X-WR-CALNAME:Texas Southmost College
X-ORIGINAL-URL:https://www.tsc.edu
X-WR-CALDESC:Events for Texas Southmost College
REFRESH-INTERVAL;VALUE=DURATION:PT1H
X-Robots-Tag:noindex
X-PUBLISHED-TTL:PT1H
BEGIN:VTIMEZONE
TZID:America/Chicago
BEGIN:DAYLIGHT
TZOFFSETFROM:-0600
TZOFFSETTO:-0500
TZNAME:CDT
DTSTART:20240310T080000
END:DAYLIGHT
BEGIN:STANDARD
TZOFFSETFROM:-0500
TZOFFSETTO:-0600
TZNAME:CST
DTSTART:20241103T070000
END:STANDARD
BEGIN:DAYLIGHT
TZOFFSETFROM:-0600
TZOFFSETTO:-0500
TZNAME:CDT
DTSTART:20250309T080000
END:DAYLIGHT
BEGIN:STANDARD
TZOFFSETFROM:-0500
TZOFFSETTO:-0600
TZNAME:CST
DTSTART:20251102T070000
END:STANDARD
BEGIN:DAYLIGHT
TZOFFSETFROM:-0600
TZOFFSETTO:-0500
TZNAME:CDT
DTSTART:20260308T080000
END:DAYLIGHT
BEGIN:STANDARD
TZOFFSETFROM:-0500
TZOFFSETTO:-0600
TZNAME:CST
DTSTART:20261101T070000
END:STANDARD
END:VTIMEZONE
BEGIN:VEVENT
DTSTART;TZID=America/Chicago:20250113T080000
DTEND;TZID=America/Chicago:20250113T180000
DTSTAMP:20260420T083605
CREATED:20250110T204859Z
LAST-MODIFIED:20250110T210549Z
UID:17341-1736755200-1736791200@www.tsc.edu
SUMMARY:Spring 2025 Convocation
DESCRIPTION:
URL:https://www.tsc.edu/event/spring-2025-convocation/
LOCATION:Jacob Brown Auditorium\, 600 International Blvd\, Brownsville\, TX\, 78526\, United States
ATTACH;FMTTYPE=image/jpeg:https://www.tsc.edu/wp-content/uploads/2025/01/Spring-Convocation-Header-16x9-1.jpg
END:VEVENT
BEGIN:VEVENT
DTSTART;VALUE=DATE:20250115
DTEND;VALUE=DATE:20250116
DTSTAMP:20260420T083605
CREATED:20240705T144259Z
LAST-MODIFIED:20240705T144631Z
UID:16463-1736899200-1736985599@www.tsc.edu
SUMMARY:Fall 2025 financial aid priority deadline
DESCRIPTION:
URL:https://www.tsc.edu/event/fall-2025-financial-aid-priority-deadline/
CATEGORIES:Academic Calendar
END:VEVENT
BEGIN:VEVENT
DTSTART;TZID=America/Chicago:20250120T090000
DTEND;TZID=America/Chicago:20250120T130000
DTSTAMP:20260420T083605
CREATED:20250118T034726Z
LAST-MODIFIED:20250118T040232Z
UID:17414-1737363600-1737378000@www.tsc.edu
SUMMARY:Scorpion Success Crew Helping Students Main Campus
DESCRIPTION:The Student Success Crew is dedicated to ensuring that every student has a smooth and successful start to their academic journey. Our team is here to help you find your way around campus by providing maps and personalized assistance. Whether you’re new to the college or just need a little extra guidance\, we’re here to support you. Look for our friendly crew members in their bright uniforms\, ready to answer your questions and help you get to your classes on time. With the Student Success Crew by your side\, you’ll never feel lost on campus!
URL:https://www.tsc.edu/event/scorpion-success-crew-helping-students/
LOCATION:ITECC\, 301 Mexico Boulevard ITECC E130\, Brownsville\, TX\, 78520\, United States
CATEGORIES:Student Life
ATTACH;FMTTYPE=image/png:https://www.tsc.edu/wp-content/uploads/2025/01/scorpion-success-crew-flyer.png
END:VEVENT
BEGIN:VEVENT
DTSTART;TZID=America/Chicago:20250120T090000
DTEND;TZID=America/Chicago:20250120T130000
DTSTAMP:20260420T083605
CREATED:20250118T040106Z
LAST-MODIFIED:20250118T040454Z
UID:17417-1737363600-1737378000@www.tsc.edu
SUMMARY:Scorpion Success Crew Helping Students - ITECC
DESCRIPTION:The Student Success Crew is dedicated to ensuring that every student has a smooth and successful start to their academic journey. Our team is here to help you find your way around campus by providing maps and personalized assistance. Whether you’re new to the college or just need a little extra guidance\, we’re here to support you. Look for our friendly crew members in their bright uniforms\, ready to answer your questions and help you get to your classes on time. With the Student Success Crew by your side\, you’ll never feel lost on campus!
URL:https://www.tsc.edu/event/scorpion-success-crew-helping-students-itecc/
LOCATION:Main Campus\, 80 Fort Brown\, Brownsville\, TX\, 78520\, United States
CATEGORIES:Student Life
ATTACH;FMTTYPE=image/png:https://www.tsc.edu/wp-content/uploads/2025/01/scorpion-success-crew-flyer.png
END:VEVENT
BEGIN:VEVENT
DTSTART;TZID=America/Chicago:20250121T110000
DTEND;TZID=America/Chicago:20250121T130000
DTSTAMP:20260420T083605
CREATED:20250118T062642Z
LAST-MODIFIED:20250118T062642Z
UID:17418-1737457200-1737464400@www.tsc.edu
SUMMARY:Scorpion Information Station Popcorn Day - Main Campus
DESCRIPTION:Pop by the Student Life Info Tables for a popping good time! Enjoy free popcorn while learning about all the fantastic activities and resources available to you. Don’t miss out on this tasty opportunity to connect and get involved!
URL:https://www.tsc.edu/event/scorpion-information-station-popcorn-day-main-campus/
LOCATION:Oliveira-Second Floor\, 80 Fort Brown\, Brownsville\, TX
CATEGORIES:Student Life
ATTACH;FMTTYPE=image/png:https://www.tsc.edu/wp-content/uploads/2025/01/scorpion-information-stations-main.png
END:VEVENT
BEGIN:VEVENT
DTSTART;TZID=America/Chicago:20250121T110000
DTEND;TZID=America/Chicago:20250121T130000
DTSTAMP:20260420T083605
CREATED:20250118T063839Z
LAST-MODIFIED:20250118T063839Z
UID:17422-1737457200-1737464400@www.tsc.edu
SUMMARY:Scorpion Information Station Pan Dulce ITECC
DESCRIPTION:Join us at the Student Life Info Tables for a sweet treat! Enjoy free pan dulce while learning about all the exciting activities and resources available to you. Don’t miss out on this delicious opportunity to connect and get involved!
URL:https://www.tsc.edu/event/scorpion-information-station-pan-dulce-itecc/
LOCATION:Oliveira-Second Floor\, 80 Fort Brown\, Brownsville\, TX
CATEGORIES:Student Life
ATTACH;FMTTYPE=image/png:https://www.tsc.edu/wp-content/uploads/2025/01/scorpion-information-stations-itecc.png
END:VEVENT
BEGIN:VEVENT
DTSTART;TZID=America/Chicago:20250122T110000
DTEND;TZID=America/Chicago:20250122T130000
DTSTAMP:20260420T083605
CREATED:20250118T063059Z
LAST-MODIFIED:20250118T063137Z
UID:17420-1737543600-1737550800@www.tsc.edu
SUMMARY:Scorpion Information Station Waffle Day - Main Campus
DESCRIPTION:Swing by the Student Life Info Tables for a waffle-tastic time! Enjoy free waffles while discovering all the amazing activities and resources available to you. Don’t miss out on this delicious chance to connect and get involved!
URL:https://www.tsc.edu/event/scorpion-information-station-waffle-day-main-campus/
LOCATION:Oliveira-Second Floor\, 80 Fort Brown\, Brownsville\, TX
CATEGORIES:Student Life
ATTACH;FMTTYPE=image/png:https://www.tsc.edu/wp-content/uploads/2025/01/scorpion-information-stations-main.png
END:VEVENT
BEGIN:VEVENT
DTSTART;TZID=America/Chicago:20250123T110000
DTEND;TZID=America/Chicago:20250123T130000
DTSTAMP:20260420T083605
CREATED:20250118T063418Z
LAST-MODIFIED:20250118T063504Z
UID:17421-1737630000-1737637200@www.tsc.edu
SUMMARY:Scorpion Information Station Pan Dulce Day - Main Campus
DESCRIPTION:Join us at the Student Life Information Tables for a sweet treat! Enjoy free pan dulce while learning about all the exciting activities and resources available to you. Don’t miss out on this delicious opportunity to connect and get involved!
URL:https://www.tsc.edu/event/scorpion-information-station-pan-dulce-day-main/
LOCATION:Oliveira-Second Floor\, 80 Fort Brown\, Brownsville\, TX
CATEGORIES:Student Life
ATTACH;FMTTYPE=image/png:https://www.tsc.edu/wp-content/uploads/2025/01/scorpion-information-stations-main.png
END:VEVENT
BEGIN:VEVENT
DTSTART;TZID=America/Chicago:20250123T173000
DTEND;TZID=America/Chicago:20250123T203000
DTSTAMP:20260420T083605
CREATED:20250120T202028Z
LAST-MODIFIED:20250120T202958Z
UID:17455-1737653400-1737664200@www.tsc.edu
SUMMARY:Regular Board  Meeting Agenda
DESCRIPTION:Regular Board Meeting Agenda – Thursday\, January 23\, 2024 – Commencing at 5:30 p.m. \nRegular Board Meeting Livestream – Thursday\, January 23\, 2024 \n 
URL:https://www.tsc.edu/event/regular-board-meeting-agenda/
CATEGORIES:Board of Trustees
ATTACH;FMTTYPE=image/jpeg:https://www.tsc.edu/wp-content/uploads/2024/05/BOT_Reg_Meeting.jpg
END:VEVENT
BEGIN:VEVENT
DTSTART;TZID=America/Chicago:20250124T110000
DTEND;TZID=America/Chicago:20250124T130000
DTSTAMP:20260420T083605
CREATED:20250118T064219Z
LAST-MODIFIED:20250118T064219Z
UID:17424-1737716400-1737723600@www.tsc.edu
SUMMARY:Scorpion Information Station Popcorn Day - ITECC
DESCRIPTION:Pop by the Student Life Info Tables for a popping good time! Enjoy free popcorn while learning about all the fantastic activities and resources available to you. Don’t miss out on this tasty opportunity to connect and get involved!
URL:https://www.tsc.edu/event/scorpion-information-station-popcorn-day-itecc/
LOCATION:Oliveira-Second Floor\, 80 Fort Brown\, Brownsville\, TX
CATEGORIES:Student Life
ATTACH;FMTTYPE=image/png:https://www.tsc.edu/wp-content/uploads/2025/01/scorpion-information-stations-itecc.png
END:VEVENT
BEGIN:VEVENT
DTSTART;TZID=America/Chicago:20250127T090000
DTEND;TZID=America/Chicago:20250415T170000
DTSTAMP:20260420T083605
CREATED:20250212T164411Z
LAST-MODIFIED:20250212T164411Z
UID:17577-1737968400-1744736400@www.tsc.edu
SUMMARY:Vita Free Tax Services
DESCRIPTION:Volunteer Income Tax Assistance (VITA) program will offer free help for anyone who has an annual income of $67\,000 or less. For an appointment call: 956.295.3761
URL:https://www.tsc.edu/event/vita-free-tax-services/
LOCATION:ITEC Center F-6
CATEGORIES:ITECC
ATTACH;FMTTYPE=image/jpeg:https://www.tsc.edu/wp-content/uploads/2025/02/tsc_free_tax_services_social-scaled.jpg
END:VEVENT
BEGIN:VEVENT
DTSTART;TZID=America/Chicago:20250128T113000
DTEND;TZID=America/Chicago:20250128T130000
DTSTAMP:20260420T083605
CREATED:20250118T065012Z
LAST-MODIFIED:20250118T065553Z
UID:17425-1738063800-1738069200@www.tsc.edu
SUMMARY:Scorpion Spring Bash - ITECC
DESCRIPTION:Get ready for an unforgettable day at the Scorpion Spring Bash! 🌞🌭🎶\n\n\n\nJoin us for a fantastic event filled with free hot dogs\, exciting games\, and music. Whether you’re looking to enjoy some delicious food\, have fun with friends\, or just soak in the lively atmosphere\, there’s something for everyone. Don’t miss out on this amazing opportunity to celebrate spring in style! \nSee you there! 🎉
URL:https://www.tsc.edu/event/scorpion-spring-bash-itecc/
LOCATION:ITECC\, 301 Mexico Boulevard ITECC E130\, Brownsville\, TX\, 78520\, United States
CATEGORIES:Student Life
ATTACH;FMTTYPE=image/png:https://www.tsc.edu/wp-content/uploads/2025/01/spring-bash.png
END:VEVENT
BEGIN:VEVENT
DTSTART;TZID=America/Chicago:20250129T113000
DTEND;TZID=America/Chicago:20250129T130000
DTSTAMP:20260420T083605
CREATED:20250118T065309Z
LAST-MODIFIED:20250118T070305Z
UID:17427-1738150200-1738155600@www.tsc.edu
SUMMARY:Scorpion Spring Bash - Main Campus
DESCRIPTION:Get ready for an unforgettable day at the Scorpion Spring Bash! 🌞🌭🎶\n\n\n\nJoin us for a fantastic event filled with free hot dogs\, exciting games\, and music. Whether you’re looking to enjoy some delicious food\, have fun with friends\, or just soak in the lively atmosphere\, there’s something for everyone. Don’t miss out on this amazing opportunity to celebrate spring in style! \nSee you there! 🎉
URL:https://www.tsc.edu/event/scorpion-spring-bash-main-campus/
LOCATION:North & South Courtyard
CATEGORIES:Student Life
ATTACH;FMTTYPE=image/png:https://www.tsc.edu/wp-content/uploads/2025/01/spring-bash.png
END:VEVENT
BEGIN:VEVENT
DTSTART;TZID=America/Chicago:20250130T110000
DTEND;TZID=America/Chicago:20250130T130000
DTSTAMP:20260420T083605
CREATED:20250118T070103Z
LAST-MODIFIED:20250118T070103Z
UID:17428-1738234800-1738242000@www.tsc.edu
SUMMARY:Scorpion Club Fair
DESCRIPTION:Discover endless opportunities to get involved on campus at the Scorpion Club Fair! This exciting event brings together a diverse array of student organizations\, clubs\, and campus resources\, all in one place. Whether you’re interested in joining a club\, volunteering\, or exploring new interests\, the Scorpion Club Fair is the perfect place to start. Meet passionate student leaders\, learn about upcoming events\, and find out how you can make the most of your college experience. Don’t miss this chance to connect\, engage\, and become an active member of our vibrant campus community!
URL:https://www.tsc.edu/event/scorpion-club-fair/
LOCATION:North & South Courtyard
CATEGORIES:Student Life
ATTACH;FMTTYPE=image/png:https://www.tsc.edu/wp-content/uploads/2025/01/Slide6.png
END:VEVENT
END:VCALENDAR