BEGIN:VCALENDAR
VERSION:2.0
PRODID:-//Texas Southmost College - ECPv6.15.20//NONSGML v1.0//EN
CALSCALE:GREGORIAN
METHOD:PUBLISH
X-WR-CALNAME:Texas Southmost College
X-ORIGINAL-URL:https://www.tsc.edu
X-WR-CALDESC:Events for Texas Southmost College
REFRESH-INTERVAL;VALUE=DURATION:PT1H
X-Robots-Tag:noindex
X-PUBLISHED-TTL:PT1H
BEGIN:VTIMEZONE
TZID:America/Chicago
BEGIN:DAYLIGHT
TZOFFSETFROM:-0600
TZOFFSETTO:-0500
TZNAME:CDT
DTSTART:20230312T080000
END:DAYLIGHT
BEGIN:STANDARD
TZOFFSETFROM:-0500
TZOFFSETTO:-0600
TZNAME:CST
DTSTART:20231105T070000
END:STANDARD
BEGIN:DAYLIGHT
TZOFFSETFROM:-0600
TZOFFSETTO:-0500
TZNAME:CDT
DTSTART:20240310T080000
END:DAYLIGHT
BEGIN:STANDARD
TZOFFSETFROM:-0500
TZOFFSETTO:-0600
TZNAME:CST
DTSTART:20241103T070000
END:STANDARD
BEGIN:DAYLIGHT
TZOFFSETFROM:-0600
TZOFFSETTO:-0500
TZNAME:CDT
DTSTART:20250309T080000
END:DAYLIGHT
BEGIN:STANDARD
TZOFFSETFROM:-0500
TZOFFSETTO:-0600
TZNAME:CST
DTSTART:20251102T070000
END:STANDARD
END:VTIMEZONE
BEGIN:VEVENT
DTSTART;TZID=America/Chicago:20240709T080000
DTEND;TZID=America/Chicago:20240709T170000
DTSTAMP:20260425T065121
CREATED:20231206T204606Z
LAST-MODIFIED:20231206T204637Z
UID:15592-1720512000-1720544400@www.tsc.edu
SUMMARY:Classes begin
DESCRIPTION:
URL:https://www.tsc.edu/event/classes-begin-4/
CATEGORIES:Academic Calendar,Summer II
END:VEVENT
BEGIN:VEVENT
DTSTART;TZID=America/Chicago:20240709T080000
DTEND;TZID=America/Chicago:20240709T170000
DTSTAMP:20260425T065121
CREATED:20231206T205106Z
LAST-MODIFIED:20231206T205106Z
UID:15594-1720512000-1720544400@www.tsc.edu
SUMMARY:Add/Drop period (Payment due same day)
DESCRIPTION:
URL:https://www.tsc.edu/event/add-drop-period-payment-due-same-day-5/
CATEGORIES:Academic Calendar,Summer II
END:VEVENT
END:VCALENDAR