BEGIN:VCALENDAR
VERSION:2.0
PRODID:-//Texas Southmost College - ECPv6.15.20//NONSGML v1.0//EN
CALSCALE:GREGORIAN
METHOD:PUBLISH
X-ORIGINAL-URL:https://www.tsc.edu
X-WR-CALDESC:Events for Texas Southmost College
REFRESH-INTERVAL;VALUE=DURATION:PT1H
X-Robots-Tag:noindex
X-PUBLISHED-TTL:PT1H
BEGIN:VTIMEZONE
TZID:America/Chicago
BEGIN:DAYLIGHT
TZOFFSETFROM:-0600
TZOFFSETTO:-0500
TZNAME:CDT
DTSTART:20240310T080000
END:DAYLIGHT
BEGIN:STANDARD
TZOFFSETFROM:-0500
TZOFFSETTO:-0600
TZNAME:CST
DTSTART:20241103T070000
END:STANDARD
BEGIN:DAYLIGHT
TZOFFSETFROM:-0600
TZOFFSETTO:-0500
TZNAME:CDT
DTSTART:20250309T080000
END:DAYLIGHT
BEGIN:STANDARD
TZOFFSETFROM:-0500
TZOFFSETTO:-0600
TZNAME:CST
DTSTART:20251102T070000
END:STANDARD
BEGIN:DAYLIGHT
TZOFFSETFROM:-0600
TZOFFSETTO:-0500
TZNAME:CDT
DTSTART:20260308T080000
END:DAYLIGHT
BEGIN:STANDARD
TZOFFSETFROM:-0500
TZOFFSETTO:-0600
TZNAME:CST
DTSTART:20261101T070000
END:STANDARD
END:VTIMEZONE
BEGIN:VEVENT
DTSTART;TZID=America/Chicago:20250814T173000
DTEND;TZID=America/Chicago:20250814T200000
DTSTAMP:20260424T050941
CREATED:20250811T162752Z
LAST-MODIFIED:20250813T141402Z
UID:18138-1755192600-1755201600@www.tsc.edu
SUMMARY:Budget Workshop & Special Board Meeting
DESCRIPTION:BOARD OF TRUSTEES OF TEXAS SOUTHMOST COLLEGE DISTRICT will be held in the Gorgas Board Room at Texas Southmost College\, 1801 May St.\, Brownsville\, Texas 78520. Commencing at 5:30 p.m. on Thursday\, August 14\, 2025. \nMeeting Agenda
URL:https://www.tsc.edu/event/budget-workshop-special-board-meeting/
LOCATION:Gorgas Board Room
CATEGORIES:Board of Trustees
END:VEVENT
END:VCALENDAR