BEGIN:VCALENDAR
VERSION:2.0
PRODID:-//Texas Southmost College - ECPv6.15.20//NONSGML v1.0//EN
CALSCALE:GREGORIAN
METHOD:PUBLISH
X-WR-CALNAME:Texas Southmost College
X-ORIGINAL-URL:https://www.tsc.edu
X-WR-CALDESC:Events for Texas Southmost College
REFRESH-INTERVAL;VALUE=DURATION:PT1H
X-Robots-Tag:noindex
X-PUBLISHED-TTL:PT1H
BEGIN:VTIMEZONE
TZID:America/Chicago
BEGIN:DAYLIGHT
TZOFFSETFROM:-0600
TZOFFSETTO:-0500
TZNAME:CDT
DTSTART:20230312T080000
END:DAYLIGHT
BEGIN:STANDARD
TZOFFSETFROM:-0500
TZOFFSETTO:-0600
TZNAME:CST
DTSTART:20231105T070000
END:STANDARD
BEGIN:DAYLIGHT
TZOFFSETFROM:-0600
TZOFFSETTO:-0500
TZNAME:CDT
DTSTART:20240310T080000
END:DAYLIGHT
BEGIN:STANDARD
TZOFFSETFROM:-0500
TZOFFSETTO:-0600
TZNAME:CST
DTSTART:20241103T070000
END:STANDARD
BEGIN:DAYLIGHT
TZOFFSETFROM:-0600
TZOFFSETTO:-0500
TZNAME:CDT
DTSTART:20250309T080000
END:DAYLIGHT
BEGIN:STANDARD
TZOFFSETFROM:-0500
TZOFFSETTO:-0600
TZNAME:CST
DTSTART:20251102T070000
END:STANDARD
END:VTIMEZONE
BEGIN:VEVENT
DTSTART;TZID=America/Chicago:20240504T080000
DTEND;TZID=America/Chicago:20240510T170000
DTSTAMP:20260419T124243
CREATED:20231206T192315Z
LAST-MODIFIED:20231211T205741Z
UID:15577-1714809600-1715360400@www.tsc.edu
SUMMARY:Final Exams (Contingent on course section)
DESCRIPTION:
URL:https://www.tsc.edu/event/final-exams-contingent-on-course-section/
CATEGORIES:Academic Calendar,Spring 2024
END:VEVENT
BEGIN:VEVENT
DTSTART;TZID=America/Chicago:20240504T100000
DTEND;TZID=America/Chicago:20240504T140000
DTSTAMP:20260419T124243
CREATED:20240423T144910Z
LAST-MODIFIED:20240423T144910Z
UID:16229-1714816800-1714831200@www.tsc.edu
SUMMARY:Registration Round Up
DESCRIPTION:
URL:https://www.tsc.edu/event/registration-round-up/
LOCATION:ITECC\, 301 Mexico Boulevard ITECC E130\, Brownsville\, TX\, 78520\, United States
CATEGORIES:ITECC,Registration
ATTACH;FMTTYPE=image/png:https://www.tsc.edu/wp-content/uploads/2024/04/Registration-Round-Up.png
END:VEVENT
END:VCALENDAR