BEGIN:VCALENDAR
VERSION:2.0
PRODID:-//Texas Southmost College Alumni - ECPv6.15.20//NONSGML v1.0//EN
CALSCALE:GREGORIAN
METHOD:PUBLISH
X-ORIGINAL-URL:https://www.tsc.edu/alumni
X-WR-CALDESC:Events for Texas Southmost College Alumni
REFRESH-INTERVAL;VALUE=DURATION:PT1H
X-Robots-Tag:noindex
X-PUBLISHED-TTL:PT1H
BEGIN:VTIMEZONE
TZID:UTC
BEGIN:STANDARD
TZOFFSETFROM:+0000
TZOFFSETTO:+0000
TZNAME:UTC
DTSTART:20250101T000000
END:STANDARD
END:VTIMEZONE
BEGIN:VEVENT
DTSTART;TZID=UTC:20260612T170000
DTEND;TZID=UTC:20260612T220000
DTSTAMP:20260424T153254
CREATED:20251215T212814Z
LAST-MODIFIED:20251215T213935Z
UID:394-1781283600-1781301600@www.tsc.edu
SUMMARY:TSC Scorpion's Salsa Social
DESCRIPTION:Get ready to turn up the rhythm at the Scorpion Salsa Social! Enjoy this vibrant free community event full of lively rhythm and fun\, featuring free salsa lessons\, a professional dancers showcase\, and a live salsa band that will keep everyone moving and so much more. Whether you’re a seasoned dancer or a first-time mover\, it’s the perfect night to celebrate music\, culture\, and community—Scorpion style! \n📅 Friday\, June 12\, 2026\n📍 Jacob Brown Auditorium\n600 International Blvd.\nBrownsville\, TX 78520 \n🕒 5:00 PM – 10:00 PM
URL:https://www.tsc.edu/alumni/event/tsc-scorpions-salsa-social/
LOCATION:Jacob Brown Auditorium\, 600 International Blvd.\, Brownsville\, TX\, 78526\, United States
ATTACH;FMTTYPE=image/jpeg:https://www.tsc.edu/alumni/wp-content/uploads/sites/11/2025/12/TSCSalsaSocial.jpg
END:VEVENT
BEGIN:VEVENT
DTSTART;TZID=UTC:20260626T080000
DTEND;TZID=UTC:20260626T220000
DTSTAMP:20260424T153254
CREATED:20251215T213236Z
LAST-MODIFIED:20251215T213236Z
UID:398-1782460800-1782511200@www.tsc.edu
SUMMARY:TSC Movie on the Lawn
DESCRIPTION:TSC Movie On the Lawn\nEnjoy a perfect summer evening under the stars at Texas Southmost College’s Summer Movie on the Lawn! This free\, family-friendly event is open to the entire community and invites friends\, families\, and neighbors to relax\, unwind\, and celebrate the season together. Bring your blankets and lawn chairs for a night of fun activities\, giveaways\, concessions\, and a special TSC Centennial video\, all leading up to a featured outdoor movie that’s sure to make your summer shine! \n📅 Friday\, June 26\, 2026\n📍 South Hall Lawn\n2001 Gorgas Dr.\nBrownsville\, TX 78520 \n🕒 8:00 PM – 10:15 PM
URL:https://www.tsc.edu/alumni/event/tsc-movie-on-the-lawn/
LOCATION:TX
ATTACH;FMTTYPE=image/png:https://www.tsc.edu/alumni/wp-content/uploads/sites/11/2025/12/Centennial-Logo-Redesign_TSC-Movie-on-the-Lawn-scaled-1.png
END:VEVENT
END:VCALENDAR