BEGIN:VCALENDAR
VERSION:2.0
PRODID:-//Texas Southmost College Alumni - ECPv6.15.20//NONSGML v1.0//EN
CALSCALE:GREGORIAN
METHOD:PUBLISH
X-WR-CALNAME:Texas Southmost College Alumni
X-ORIGINAL-URL:https://www.tsc.edu/alumni
X-WR-CALDESC:Events for Texas Southmost College Alumni
REFRESH-INTERVAL;VALUE=DURATION:PT1H
X-Robots-Tag:noindex
X-PUBLISHED-TTL:PT1H
BEGIN:VTIMEZONE
TZID:UTC
BEGIN:STANDARD
TZOFFSETFROM:+0000
TZOFFSETTO:+0000
TZNAME:UTC
DTSTART:20250101T000000
END:STANDARD
END:VTIMEZONE
BEGIN:VEVENT
DTSTART;TZID=UTC:20260328T080000
DTEND;TZID=UTC:20260328T170000
DTSTAMP:20260425T020322
CREATED:20251211T170525Z
LAST-MODIFIED:20251211T170525Z
UID:236-1774684800-1774717200@www.tsc.edu
SUMMARY:TSC HISTORIC RUN & HALF MARATHON
DESCRIPTION:Join Texas Southmost College for a race celebrating 100 years of progress\, perseverance\, and pride. The Historic Half Marathon and 5k invite runners of all ages and levels to hit the pavement and honor TSC’s rich legacy\, mile by mile.  Let’s strengthen the spirit of unity and keep our community moving forward. \n📅 Saturday\, March 28\, 2026\n📍 TBD \n🕒 6:30 AM – 12:00PM \n\nImportant Details \n5k = 3.2 Miles\nHalf-Marathon = 13.1 Miles\n2 Person\, Half-Marathon Relay = Each Person Runs 6.55 Miles \nMarch 9th 2026 – Deadline to register and ensure shirt giveaway \nMarch 23rd 2026 – Registration cut off \nMarch 26th and March 27th – Packet Pick-Up\n📍 Jacob Brown Auditorium Lobby\n600 International Blvd.\nBrownsville\, TX 78520
URL:https://www.tsc.edu/alumni/event/tsc-historic-run-half-marathon/
LOCATION:TX
ATTACH;FMTTYPE=image/png:https://www.tsc.edu/alumni/wp-content/uploads/sites/11/2025/12/2025-03-28-TSC-Historic-Run-Logo.png
ORGANIZER;CN="TSC Alumni Foundation":MAILTO:tsc100@tsc.edu
END:VEVENT
BEGIN:VEVENT
DTSTART;TZID=UTC:20260425T180000
DTEND;TZID=UTC:20260425T233000
DTSTAMP:20260425T020322
CREATED:20251215T205712Z
LAST-MODIFIED:20251215T205955Z
UID:383-1777140000-1777159800@www.tsc.edu
SUMMARY:TSC Bougainvillea Ball
DESCRIPTION:We invite our the community\, alumni and students to come together for a night to shine\, share memories\, and toast to the next century of excellence. Get ready for an unforgettable evening filled with live music and dancing as we honor 100 years of tradition\, growth\, and Scorpion pride. \n📅 Saturday\, April 25\, 2026 \n📍\nJacob Brown Auditorium\n600 International Blvd.\nBrownsville\, TX 78520 \n🕒 6:00 PM – 12:00 AM
URL:https://www.tsc.edu/alumni/event/tsc-bougainvillea-ball/
LOCATION:Jacob Brown Auditorium\, 600 International Blvd.\, Brownsville\, TX\, 78526\, United States
ATTACH;FMTTYPE=image/png:https://www.tsc.edu/alumni/wp-content/uploads/sites/11/2025/12/Centennial-Logo-Redesign_TSC-Bougainvillea-Ball-scaled-1.png
ORGANIZER;CN="TSC Alumni Foundation":MAILTO:tsc100@tsc.edu
END:VEVENT
BEGIN:VEVENT
DTSTART;TZID=UTC:20260503T100000
DTEND;TZID=UTC:20260503T133000
DTSTAMP:20260425T020322
CREATED:20251215T204816Z
LAST-MODIFIED:20260423T163256Z
UID:381-1777802400-1777815000@www.tsc.edu
SUMMARY:TSC Play Day at the Zoo
DESCRIPTION:In celebration of the Week of the Young Child\, Texas Southmost College proudly host the Children’s Play Day at the Zoo at Gladys Porter Zoo. The community is invited to attend this special day focusing on children’s right to play around the world! \n📅 Sunday\, May 3\, 2026\n📍 Gladys Porter Zoo\n500 E. Ringgold St.\nBrownsville\, TX 78520 \n🕓 10:00am-1:30pm
URL:https://www.tsc.edu/alumni/event/tsc-play-dat-at-the-zoo/
LOCATION:Gladys Porter Zoo\, 500 E. Ringgold St.\, Brownsville\, Tx\, 78520
ATTACH;FMTTYPE=image/jpeg:https://www.tsc.edu/alumni/wp-content/uploads/sites/11/2025/12/PlayDayAtZoo.jpg
ORGANIZER;CN="TSC Alumni Foundation":MAILTO:tsc100@tsc.edu
END:VEVENT
BEGIN:VEVENT
DTSTART;TZID=UTC:20260522T083000
DTEND;TZID=UTC:20260522T100000
DTSTAMP:20260425T020322
CREATED:20251215T211058Z
LAST-MODIFIED:20251215T211221Z
UID:386-1779438600-1779444000@www.tsc.edu
SUMMARY:TSC Flags on the Lawn
DESCRIPTION:Honor and remembrance take center stage at Texas Southmost College’s First Annual Flags on the Lawn. This heartfelt event pays tribute to our fallen heroes and their enduring legacy of courage and sacrifice. Free and open to the community\, veterans\, alumni\, students\, and employees\, the ceremony invites everyone to come together in reflection\, gratitude\, and unity as we honor those who gave everything for our freedom. \n📅 Friday\, May 22\, 2026\n📍 Former Military Cemetery\n🕒 8:30 AM – 10:00AM
URL:https://www.tsc.edu/alumni/event/tsc-flags-on-the-lawn/
LOCATION:Former Military Cemetery
ATTACH;FMTTYPE=image/jpeg:https://www.tsc.edu/alumni/wp-content/uploads/sites/11/2025/12/FlagsonTheLawn.jpg
ORGANIZER;CN="TSC Alumni Foundation":MAILTO:tsc100@tsc.edu
END:VEVENT
BEGIN:VEVENT
DTSTART;TZID=UTC:20260612T170000
DTEND;TZID=UTC:20260612T220000
DTSTAMP:20260425T020322
CREATED:20251215T212814Z
LAST-MODIFIED:20251215T213935Z
UID:394-1781283600-1781301600@www.tsc.edu
SUMMARY:TSC Scorpion's Salsa Social
DESCRIPTION:Get ready to turn up the rhythm at the Scorpion Salsa Social! Enjoy this vibrant free community event full of lively rhythm and fun\, featuring free salsa lessons\, a professional dancers showcase\, and a live salsa band that will keep everyone moving and so much more. Whether you’re a seasoned dancer or a first-time mover\, it’s the perfect night to celebrate music\, culture\, and community—Scorpion style! \n📅 Friday\, June 12\, 2026\n📍 Jacob Brown Auditorium\n600 International Blvd.\nBrownsville\, TX 78520 \n🕒 5:00 PM – 10:00 PM
URL:https://www.tsc.edu/alumni/event/tsc-scorpions-salsa-social/
LOCATION:Jacob Brown Auditorium\, 600 International Blvd.\, Brownsville\, TX\, 78526\, United States
ATTACH;FMTTYPE=image/jpeg:https://www.tsc.edu/alumni/wp-content/uploads/sites/11/2025/12/TSCSalsaSocial.jpg
END:VEVENT
BEGIN:VEVENT
DTSTART;TZID=UTC:20260626T080000
DTEND;TZID=UTC:20260626T220000
DTSTAMP:20260425T020322
CREATED:20251215T213236Z
LAST-MODIFIED:20251215T213236Z
UID:398-1782460800-1782511200@www.tsc.edu
SUMMARY:TSC Movie on the Lawn
DESCRIPTION:TSC Movie On the Lawn\nEnjoy a perfect summer evening under the stars at Texas Southmost College’s Summer Movie on the Lawn! This free\, family-friendly event is open to the entire community and invites friends\, families\, and neighbors to relax\, unwind\, and celebrate the season together. Bring your blankets and lawn chairs for a night of fun activities\, giveaways\, concessions\, and a special TSC Centennial video\, all leading up to a featured outdoor movie that’s sure to make your summer shine! \n📅 Friday\, June 26\, 2026\n📍 South Hall Lawn\n2001 Gorgas Dr.\nBrownsville\, TX 78520 \n🕒 8:00 PM – 10:15 PM
URL:https://www.tsc.edu/alumni/event/tsc-movie-on-the-lawn/
LOCATION:TX
ATTACH;FMTTYPE=image/png:https://www.tsc.edu/alumni/wp-content/uploads/sites/11/2025/12/Centennial-Logo-Redesign_TSC-Movie-on-the-Lawn-scaled-1.png
END:VEVENT
BEGIN:VEVENT
DTSTART;TZID=UTC:20260702T193000
DTEND;TZID=UTC:20260702T220000
DTSTAMP:20260425T020322
CREATED:20251215T214755Z
LAST-MODIFIED:20251215T214755Z
UID:403-1783020600-1783029600@www.tsc.edu
SUMMARY:TSC 4th of July Drone Spectacular
DESCRIPTION:Celebrate Independence Day and TSC’s Centennial at the 4th of July Drone Spectacular! This free family-friendly event offers a modern\, eco-friendly\, and pet-friendly twist on traditional fireworks with a breathtaking drone light show illuminating the night sky. Enjoy live country music\, line dancing\, free food\, kids’ activities\, and more as we come together to honor our nation and 100 years of Scorpion pride! \n📅 Thursday\, July 2\, 2026\n📍 TSC ITEC Center\n301 Mexico Blvd.\nBrownsville\, TX 78520 \n🕒 7:30 PM – 10:00 PM
URL:https://www.tsc.edu/alumni/event/tsc-4th-of-july-drone-spectacular/
LOCATION:TSC ITEC Center\, 301 Mexico Blvd.\, Brownsville\, TX\, 78520
ATTACH;FMTTYPE=image/jpeg:https://www.tsc.edu/alumni/wp-content/uploads/sites/11/2025/12/TSC4thOfJulySpecatular.jpg
ORGANIZER;CN="TSC Alumni Foundation":MAILTO:tsc100@tsc.edu
END:VEVENT
BEGIN:VEVENT
DTSTART;TZID=UTC:20260822T080000
DTEND;TZID=UTC:20260822T170000
DTSTAMP:20260425T020322
CREATED:20251215T215341Z
LAST-MODIFIED:20251215T215341Z
UID:407-1787385600-1787418000@www.tsc.edu
SUMMARY:TSC Sting Day
DESCRIPTION:TSC Sting Day\n\nKick off the new school year with Sting Day\, Texas Southmost College’s ultimate back-to-school block party! This free event is open to students\, alumni\, and the community—celebrating Scorpion spirit\, pride\, and connection. Enjoy music\, games\, and campus fun as we come together to welcome a new semester. Stay tuned for the announcement of a special performer you won’t want to miss! \n📅 Saturday\, August 22\, 2026\n📍 Jacob Brown Auditorium\n600 International Blvd.\nBrownsville\, TX 78520 \n🕒 TBD
URL:https://www.tsc.edu/alumni/event/tsc-sting-day/
LOCATION:Jacob Brown Auditorium\, 600 International Blvd.\, Brownsville\, TX\, 78526\, United States
ATTACH;FMTTYPE=image/jpeg:https://www.tsc.edu/alumni/wp-content/uploads/sites/11/2025/12/TSCStingDay.jpg
END:VEVENT
BEGIN:VEVENT
DTSTART;TZID=UTC:20260914T090000
DTEND;TZID=UTC:20260914T230000
DTSTAMP:20260425T020322
CREATED:20251215T215836Z
LAST-MODIFIED:20251215T215836Z
UID:410-1789376400-1789426800@www.tsc.edu
SUMMARY:TSC Generations Day
DESCRIPTION:TSC Generations Day\nCelebrate family\, legacy\, and lifelong learning at Texas Southmost College’s Centennial Family Celebration! This free event welcomes alumni\, students\, employees\, and the community to honor generations of Scorpion pride. Enjoy a touching tribute to multigenerational alumni families\, followed by the unveiling of “Threads of Time: 100 Years of TSC History & the Scorpion Generations Exhibit.” \n📅 Monday\, September 14\, 2026\n📍 Student Area – Oliveira Student Services Center\n1701 May St.\nBrownsville\, TX 78520 \n🕒 9:00AM – 11:00AM \nWe’re looking for artifacts\, yearbooks\, memorabilia\, and keepsakes to feature in our TSC Exhibit. Click the button to email us about your TSC Treasures and help showcase a century of Scorpion pride!
URL:https://www.tsc.edu/alumni/event/tsc-generations-day/
LOCATION:Oliveira Student Services Center\, 1701 May Street\, Brownsville\, Texas\, 78520
ATTACH;FMTTYPE=image/jpeg:https://www.tsc.edu/alumni/wp-content/uploads/sites/11/2025/12/TSCGeneration-1.jpg
ORGANIZER;CN="TSC Alumni Foundation":MAILTO:tsc100@tsc.edu
END:VEVENT
BEGIN:VEVENT
DTSTART;TZID=UTC:20261031T180000
DTEND;TZID=UTC:20261031T220000
DTSTAMP:20260425T020322
CREATED:20251215T220618Z
LAST-MODIFIED:20260115T212341Z
UID:414-1793469600-1793484000@www.tsc.edu
SUMMARY:TSC Halloween Haunted Grounds Tour & Pumpkinmania!
DESCRIPTION:TSC Halloween Haunted Grounds Tour & Pumpkinmania! \nExperience a spooky good time at Texas Southmost College’s Halloween Haunted Grounds Tour & Pumpkinmania! This free event is open to alumni\, students\, and the community\, offering a fun and festive evening filled with campus history\, fall-themed activities\, and Halloween excitement. Enjoy trick-or-treating along the Paseo\, pumpkin carving\, and live music from a local band and DJ as you celebrate the season Scorpion-style under the stars! \n📅 Saturday\, October 31\, 2026\n📍 TSC Amphitheater & TSC Paseo \n🕒 6:00 PM – 10:00 PM
URL:https://www.tsc.edu/alumni/event/tsc-halloween-haunted-grounds-tour-pumpkinmania/
LOCATION:TSC Amphitheater & TSC Paseo
ATTACH;FMTTYPE=image/jpeg:https://www.tsc.edu/alumni/wp-content/uploads/sites/11/2025/12/TSCHauntedGroundsTour.jpg
END:VEVENT
BEGIN:VEVENT
DTSTART;TZID=UTC:20261102T190000
DTEND;TZID=UTC:20261102T220000
DTSTAMP:20260425T020322
CREATED:20251215T221408Z
LAST-MODIFIED:20251215T221408Z
UID:418-1793646000-1793656800@www.tsc.edu
SUMMARY:TSC Dia De Los Muertos Celebration & Parade
DESCRIPTION:Celebrate tradition\, culture\, and remembrance at Texas Southmost College’s Día de los Muertos Celebration & Parade! This free community event honors the spirit of those who came before us with beautiful altars\, heartfelt tributes\, and cultural festivities. \n📅 Monday\, November 2\, 2026\n📍 TSC Oliveira Student Services Parking Lot\n1701 May St.\nBrownsville\, TX 78520 \n🕓 7:00 PM-10:00 PM
URL:https://www.tsc.edu/alumni/event/tsc-dia-de-los-muertos-celebration-parade/
LOCATION:Oliveira Student Services Center\, 1701 May Street\, Brownsville\, Texas\, 78520
ATTACH;FMTTYPE=image/jpeg:https://www.tsc.edu/alumni/wp-content/uploads/sites/11/2025/12/TSCDiaDeLosMuertos.jpg
ORGANIZER;CN="TSC Alumni Foundation":MAILTO:tsc100@tsc.edu
END:VEVENT
BEGIN:VEVENT
DTSTART;TZID=UTC:20261201T170000
DTEND;TZID=UTC:20261201T223000
DTSTAMP:20260425T020322
CREATED:20251215T221935Z
LAST-MODIFIED:20251215T221935Z
UID:420-1796144400-1796164200@www.tsc.edu
SUMMARY:TSC Centennial Celebration Finale
DESCRIPTION:TSC Centennial Celebration Finale\nCelebrate a century of excellence at Texas Southmost College’s Centennial Celebration Grand Finale! This free community event marks the formal close of our 100-year celebration with an unforgettable evening of official proclamations\, live music\, free food\, our annual tree lighting and a dazzling fireworks drone show. Join alumni\, students\, employees\, and neighbors as we honor TSC’s legacy and look ahead to an even brighter future\, ending our centennial year with a spectacular celebration of Scorpion pride! \n📅 Tuesday\, December 1\, 2026\n📍 Performing Arts Center & TSC Oliveria Student Services Center\n90 E. Taylor & 1701 May St.\nBrownsville\, TX 78520 \n🕒 5:00 PM – 10:30 PM
URL:https://www.tsc.edu/alumni/event/tsc-centennial-celebration-finale/
LOCATION:Performing Arts Center\, 90 E. Taylor\, Brownsville\, TX\, 78526\, United States
ATTACH;FMTTYPE=image/jpeg:https://www.tsc.edu/alumni/wp-content/uploads/sites/11/2025/12/TSCCentennialCelebrationFinale-1.jpg
ORGANIZER;CN="TSC Alumni Foundation":MAILTO:tsc100@tsc.edu
END:VEVENT
END:VCALENDAR